BEGIN:VCALENDAR
VERSION:2.0
PRODID:-//Evangel Church - ECPv6.15.17//NONSGML v1.0//EN
CALSCALE:GREGORIAN
METHOD:PUBLISH
X-ORIGINAL-URL:https://evangelcog.com
X-WR-CALDESC:Events for Evangel Church
REFRESH-INTERVAL;VALUE=DURATION:PT1H
X-Robots-Tag:noindex
X-PUBLISHED-TTL:PT1H
BEGIN:VTIMEZONE
TZID:America/New_York
BEGIN:DAYLIGHT
TZOFFSETFROM:-0500
TZOFFSETTO:-0400
TZNAME:EDT
DTSTART:20170312T070000
END:DAYLIGHT
BEGIN:STANDARD
TZOFFSETFROM:-0400
TZOFFSETTO:-0500
TZNAME:EST
DTSTART:20171105T060000
END:STANDARD
BEGIN:DAYLIGHT
TZOFFSETFROM:-0500
TZOFFSETTO:-0400
TZNAME:EDT
DTSTART:20180311T070000
END:DAYLIGHT
BEGIN:STANDARD
TZOFFSETFROM:-0400
TZOFFSETTO:-0500
TZNAME:EST
DTSTART:20181104T060000
END:STANDARD
BEGIN:DAYLIGHT
TZOFFSETFROM:-0500
TZOFFSETTO:-0400
TZNAME:EDT
DTSTART:20190310T070000
END:DAYLIGHT
BEGIN:STANDARD
TZOFFSETFROM:-0400
TZOFFSETTO:-0500
TZNAME:EST
DTSTART:20191103T060000
END:STANDARD
BEGIN:DAYLIGHT
TZOFFSETFROM:-0500
TZOFFSETTO:-0400
TZNAME:EDT
DTSTART:20200308T070000
END:DAYLIGHT
BEGIN:STANDARD
TZOFFSETFROM:-0400
TZOFFSETTO:-0500
TZNAME:EST
DTSTART:20201101T060000
END:STANDARD
END:VTIMEZONE
BEGIN:VEVENT
DTSTART;TZID=America/New_York:20190224T120000
DTEND;TZID=America/New_York:20190224T130000
DTSTAMP:20260423T094507
CREATED:20190130T135453Z
LAST-MODIFIED:20190130T135453Z
UID:3146-1551009600-1551013200@evangelcog.com
SUMMARY:Inside Out Youth Group Spaghetti Dinner
DESCRIPTION:
URL:https://evangelcog.com/event/inside-out-youth-group-spaghetti-dinner/
LOCATION:Fellowship Hall – Evangel Church of God\, 370 SW Monitor Glen\, Lake City\, FL\, 32025\, United States
END:VEVENT
BEGIN:VEVENT
DTSTART;TZID=America/New_York:20190220T190000
DTEND;TZID=America/New_York:20190220T200000
DTSTAMP:20260423T094507
CREATED:20190130T133055Z
LAST-MODIFIED:20190130T133055Z
UID:3136-1550689200-1550692800@evangelcog.com
SUMMARY:NEW! Women's Bible Study 7pm Wednesday
DESCRIPTION:
URL:https://evangelcog.com/event/new-womens-bible-study-7pm-wednesday-2/
LOCATION:Evangel Church of God\, 370 SW Monitor Glen\, Lake City\, FL\, 32025\, United States
END:VEVENT
BEGIN:VEVENT
DTSTART;TZID=America/New_York:20190217T104500
DTEND;TZID=America/New_York:20190217T120000
DTSTAMP:20260423T094507
CREATED:20190202T141022Z
LAST-MODIFIED:20190211T131101Z
UID:3182-1550400300-1550404800@evangelcog.com
SUMMARY:2.17.2019 Special Guest Speaker - Austin Holmes
DESCRIPTION:  \nAustin Ross Holmes began preaching at 16 years old. He served as youth pastor at Refuge Church in New Port Richie Fl and as young adult Pastor at Abundant Life Church of God in Lakeland Fl for several years. In 2017 Austin was asked to relocate to Davie\, FL to serve as Campus-pastor of Awakening House of Prayer. Presently\, following the leading of the Holy Spirit\, Austin has taken a step of faith to carry the message of Jesus Christ to this generation. \nAustin is the son of Pastor Rick and Sister Jackie Holmes of Lake City FL. Austin is a native of Florida and currently lives in Auburndale Fl. He graduated from the River Bible Institute in Tampa in 2009 from which he earned a Bachelor of Arts degree in Ministry. While there\, he pursued an intense study of the Bible\, and obtained invaluable instruction on Faith\, the Holy Spirit\, Bible Prophecy and other theological areas.\nAn effective communicator of God’s Word\, Austin is widely known for his practical and dynamic\, anointed preaching which helps people apply the timeless truths of Scripture to their everyday lives.\nHe and his wife\, Sierra\, have been married since 2017. They are the proud parents of toddler Judah who is 12 months old and is their pride and joy.
URL:https://evangelcog.com/event/2-17-2019-special-guest-speaker-austin-holmes/
LOCATION:Evangel Church of God\, 370 SW Monitor Glen\, Lake City\, FL\, 32025\, United States
END:VEVENT
BEGIN:VEVENT
DTSTART;VALUE=DATE:20190217
DTEND;VALUE=DATE:20190218
DTSTAMP:20260423T094507
CREATED:20190130T141702Z
LAST-MODIFIED:20190130T141702Z
UID:3151-1550361600-1550447999@evangelcog.com
SUMMARY:Inside Out Youth Group Month of Love Fundraiser
DESCRIPTION:Inside Out Youth will be hosting a Month of Love Envelope Fundraiser.  Take an envelope from the table\, fill it and drop it in the offering plate.\nInside Out will return the love by hosting a free Spaghetti Dinner after morning service on Feb. 24 to thank you for your faithful support.
URL:https://evangelcog.com/event/inside-out-youth-group-month-of-love-fundraiser-2/
LOCATION:Evangel Church of God\, 370 SW Monitor Glen\, Lake City\, FL\, 32025\, United States
END:VEVENT
BEGIN:VEVENT
DTSTART;VALUE=DATE:20190215
DTEND;VALUE=DATE:20190217
DTSTAMP:20260423T094507
CREATED:20181210T113829Z
LAST-MODIFIED:20181210T113829Z
UID:2738-1550188800-1550361599@evangelcog.com
SUMMARY:Olustee Festival
DESCRIPTION:Friday & Saturday\, February 15th and 16th. We will be posting a sign-up sheet in the foyer for volunteers to help sell our famous Chicken and Rice.
URL:https://evangelcog.com/event/olustee-festival/
LOCATION:FL
END:VEVENT
BEGIN:VEVENT
DTSTART;TZID=America/New_York:20190213T190000
DTEND;TZID=America/New_York:20190213T200000
DTSTAMP:20260423T094507
CREATED:20190130T132338Z
LAST-MODIFIED:20190130T132338Z
UID:3133-1550084400-1550088000@evangelcog.com
SUMMARY:NEW! Women's Bible Study 7pm Wednesday
DESCRIPTION:
URL:https://evangelcog.com/event/new-womens-bible-study-7pm-wednesday/
LOCATION:Evangel Church of God\, 370 SW Monitor Glen\, Lake City\, FL\, 32025\, United States
END:VEVENT
BEGIN:VEVENT
DTSTART;TZID=America/New_York:20190212T100000
DTEND;TZID=America/New_York:20190212T120000
DTSTAMP:20260423T094507
CREATED:20190131T154938Z
LAST-MODIFIED:20190131T154938Z
UID:3165-1549965600-1549972800@evangelcog.com
SUMMARY:Women's Prayer / Lunch 10am
DESCRIPTION:Join us for a time of worship\, praise and fellowship. Everyone is welcome!
URL:https://evangelcog.com/event/womens-prayer-lunch-10am/
LOCATION:Fellowship Hall – Evangel Church of God\, 370 SW Monitor Glen\, Lake City\, FL\, 32025\, United States
END:VEVENT
BEGIN:VEVENT
DTSTART;VALUE=DATE:20190210
DTEND;VALUE=DATE:20190211
DTSTAMP:20260423T094507
CREATED:20190130T141451Z
LAST-MODIFIED:20190130T141451Z
UID:3149-1549756800-1549843199@evangelcog.com
SUMMARY:Inside Out Youth Group Month of Love Fundraiser
DESCRIPTION:Inside Out Youth will be hosting a Month of Love Envelope Fundraiser.  Take an envelope from the table\, fill it and drop it in the offering plate.\nInside Out will return the love by hosting a free Spaghetti Dinner after morning service on Feb. 24 to thank you for your faithful support.
URL:https://evangelcog.com/event/inside-out-youth-group-month-of-love-fundraiser/
LOCATION:Evangel Church of God\, 370 SW Monitor Glen\, Lake City\, FL\, 32025\, United States
END:VEVENT
BEGIN:VEVENT
DTSTART;TZID=America/New_York:20190206T190000
DTEND;TZID=America/New_York:20190206T200000
DTSTAMP:20260423T094507
CREATED:20190130T132141Z
LAST-MODIFIED:20190130T132141Z
UID:3130-1549479600-1549483200@evangelcog.com
SUMMARY:NEW! Women's Bible Study 7pm Wednesday - 6 sessions
DESCRIPTION:Beginning Feb. 6\, Sister Jackie Holmes will be teaching a study called The Quest. Join us and see where God takes us on this quest together.\n \n 
URL:https://evangelcog.com/event/new-womens-bible-study-7pm-wednesday-6-sessions/
LOCATION:Evangel Church of God\, 370 SW Monitor Glen\, Lake City\, FL\, 32025\, United States
END:VEVENT
BEGIN:VEVENT
DTSTART;VALUE=DATE:20190203
DTEND;VALUE=DATE:20190204
DTSTAMP:20260423T094507
CREATED:20190130T135129Z
LAST-MODIFIED:20190130T141333Z
UID:3142-1549152000-1549238399@evangelcog.com
SUMMARY:Month of Love / Inside Out Youth Group Fundraiser
DESCRIPTION:Inside Out Youth will be hosting a Month of Love Envelope Fundraiser.  Take an envelope from the table\, fill it and drop it in the offering plate.\nInside Out will return the love by hosting a free Spaghetti Dinner after morning service on Feb. 24 to thank you for your faithful support.
URL:https://evangelcog.com/event/month-of-love-inside-out-youth-group-fundraiser/
LOCATION:Evangel Church of God\, 370 SW Monitor Glen\, Lake City\, FL\, 32025\, United States
END:VEVENT
BEGIN:VEVENT
DTSTART;TZID=America/New_York:20190127T183000
DTEND;TZID=America/New_York:20190127T200000
DTSTAMP:20260423T094507
CREATED:20181112T110935Z
LAST-MODIFIED:20181112T110935Z
UID:2536-1548613800-1548619200@evangelcog.com
SUMMARY:Annual Business Meeting 6:30pm
DESCRIPTION:You don’t want to miss this annual business meeting where we’ll review the past year and look forward to the next!
URL:https://evangelcog.com/event/annual-business-meeting-630pm/
LOCATION:Evangel Church of God\, 370 SW Monitor Glen\, Lake City\, FL\, 32025\, United States
END:VEVENT
BEGIN:VEVENT
DTSTART;TZID=America/New_York:20190104T160000
DTEND;TZID=America/New_York:20190105T140000
DTSTAMP:20260423T094507
CREATED:20181210T113404Z
LAST-MODIFIED:20190101T122758Z
UID:2731-1546617600-1546696800@evangelcog.com
SUMMARY:Chicken Pickin' at Norris's Farm
DESCRIPTION:Mark your calendars\, we need your help!\nFriday & Saturday\, January 4th\, 4pm and 9am Jan. 5th. At the home of Jerry and Shirley Norris.
URL:https://evangelcog.com/event/chicken-pickin-at-norriss-farm/
LOCATION:Norris’ Farm\, Lake City\, FL\, 32024\, United States
END:VEVENT
BEGIN:VEVENT
DTSTART;TZID=America/New_York:20181216T104500
DTEND;TZID=America/New_York:20181216T120000
DTSTAMP:20260423T094507
CREATED:20181112T111907Z
LAST-MODIFIED:20181210T114452Z
UID:2542-1544957100-1544961600@evangelcog.com
SUMMARY:Special Guest Speaker Pastor Nathan Todd
DESCRIPTION:Pastor Nate returns to preach for us. You don’t want to miss his inspiring message!
URL:https://evangelcog.com/event/special-guest-speaker-pastor-nate-todd/
LOCATION:Evangel Church of God\, 370 SW Monitor Glen\, Lake City\, FL\, 32025\, United States
END:VEVENT
BEGIN:VEVENT
DTSTART;VALUE=DATE:20181121
DTEND;VALUE=DATE:20181122
DTSTAMP:20260423T094507
CREATED:20181026T121559Z
LAST-MODIFIED:20181026T121559Z
UID:2398-1542758400-1542844799@evangelcog.com
SUMMARY:No evening service - Thanksgiving holiday
DESCRIPTION:
URL:https://evangelcog.com/event/no-evening-service-thanksgiving-holiday/
LOCATION:FL
END:VEVENT
BEGIN:VEVENT
DTSTART;TZID=America/New_York:20181111T104500
DTEND;TZID=America/New_York:20181111T140000
DTSTAMP:20260423T094507
CREATED:20181024T121643Z
LAST-MODIFIED:20181101T112357Z
UID:2379-1541933100-1541944800@evangelcog.com
SUMMARY:Honoring our Veterans / Thanksgiving Dinner
DESCRIPTION:Sunday Nov. 11 after morning worship service we will have Thanksgiving Dinner in honor of our Veterans. The church will provide turkey and ham and everyone will bring sides to share. Note there will be no Sunday School or evening service this day.
URL:https://evangelcog.com/event/honoring-our-veterans-thanksgiving-dinner/
LOCATION:Evangel Church of God\, 370 SW Monitor Glen\, Lake City\, FL\, 32025\, United States
END:VEVENT
BEGIN:VEVENT
DTSTART;VALUE=DATE:20181103
DTEND;VALUE=DATE:20181104
DTSTAMP:20260423T094507
CREATED:20181024T115940Z
LAST-MODIFIED:20181024T115940Z
UID:2375-1541203200-1541289599@evangelcog.com
SUMMARY:Change your clocks! Daylight Savings Time Ends
DESCRIPTION:Remember to set your clocks back
URL:https://evangelcog.com/event/change-your-clocks-daylight-savings-time-ends/
LOCATION:Evangel Church of God\, 370 SW Monitor Glen\, Lake City\, FL\, 32025\, United States
END:VEVENT
BEGIN:VEVENT
DTSTART;TZID=America/New_York:20181101T183000
DTEND;TZID=America/New_York:20181101T200000
DTSTAMP:20260423T094507
CREATED:20180910T145648Z
LAST-MODIFIED:20181024T115255Z
UID:1967-1541097000-1541102400@evangelcog.com
SUMMARY:Ladies Pie Night
DESCRIPTION:This is not your Grandma’s Ladies’ Night\n\nJoin us for worship\, fellowship and prayer as we share how blessed we are.  Evangel Fashionistas will present Fall’s most unique custom style trends in a fun fashion show.  Bring a dinner or dessert pie to share.  All women are invited\, church affiliation not required.\n  \n 
URL:https://evangelcog.com/event/ladies-pie-night/
LOCATION:Fellowship Hall – Evangel Church of God\, 370 SW Monitor Glen\, Lake City\, FL\, 32025\, United States
END:VEVENT
BEGIN:VEVENT
DTSTART;TZID=America/New_York:20181028T163000
DTEND;TZID=America/New_York:20181028T180000
DTSTAMP:20260423T094507
CREATED:20180919T154124Z
LAST-MODIFIED:20180919T154142Z
UID:2040-1540744200-1540749600@evangelcog.com
SUMMARY:Baby Shower for Michelle
DESCRIPTION:Join us for a Baby Shower on Sunday\, October 28 at 4:30pm . The Garners are having a sweet baby boy! Come help us celebrate.
URL:https://evangelcog.com/event/baby-shower-for-michelle/
LOCATION:Fellowship Hall – Evangel Church of God\, 370 SW Monitor Glen\, Lake City\, FL\, 32025\, United States
END:VEVENT
BEGIN:VEVENT
DTSTART;TZID=America/New_York:20181020T170000
DTEND;TZID=America/New_York:20181020T200000
DTSTAMP:20260423T094507
CREATED:20180709T120501Z
LAST-MODIFIED:20181002T123243Z
UID:1475-1540054800-1540065600@evangelcog.com
SUMMARY:Fall Festival Saturday\, Oct. 20 - FREE!
DESCRIPTION:Our Fall Festival will take place on Evangel grounds on Saturday\, October 20\, 5pm – 8pm.  There will be something for anyone who wishes to volunteer.  Mark your calendars and plan to bring family and friends.\n 
URL:https://evangelcog.com/event/fall-festival-saturday-oct-27/
LOCATION:Evangel Church of God\, 370 SW Monitor Glen\, Lake City\, FL\, 32025\, United States
END:VEVENT
BEGIN:VEVENT
DTSTART;TZID=America/New_York:20181014T120000
DTEND;TZID=America/New_York:20181014T123000
DTSTAMP:20260423T094507
CREATED:20181002T122431Z
LAST-MODIFIED:20181002T122431Z
UID:2186-1539518400-1539520200@evangelcog.com
SUMMARY:Desserts and Donations
DESCRIPTION:Inside Out Youth Group nees your help! October 14 we need people to bring in desserts that the Youth can give away for donations.  Please sign up in the foyer.
URL:https://evangelcog.com/event/desserts-and-donations/
LOCATION:Fellowship Hall – Evangel Church of God\, 370 SW Monitor Glen\, Lake City\, FL\, 32025\, United States
END:VEVENT
BEGIN:VEVENT
DTSTART;TZID=America/New_York:20181014T104500
DTEND;TZID=America/New_York:20181014T120000
DTSTAMP:20260423T094507
CREATED:20181014T093556Z
LAST-MODIFIED:20181014T094448Z
UID:2296-1539513900-1539518400@evangelcog.com
SUMMARY:Getting to Know God - New Sermon Series with Pastor Rick
DESCRIPTION:
URL:https://evangelcog.com/event/getting-to-know-god-new-sermon-series-with-pastor-rick/
LOCATION:Evangel Church of God\, 370 SW Monitor Glen\, Lake City\, FL\, 32025\, United States
END:VEVENT
BEGIN:VEVENT
DTSTART;TZID=America/New_York:20181009T100000
DTEND;TZID=America/New_York:20181009T120000
DTSTAMP:20260423T094507
CREATED:20181002T123037Z
LAST-MODIFIED:20181002T123037Z
UID:2192-1539079200-1539086400@evangelcog.com
SUMMARY:Women's Prayer Meeting
DESCRIPTION:Come and enjoy a time of prayer and fellowship\, all women are invited.  We meet in the Fellowship Hall on Tuesday.  We will begin with prayer requests and prayer at 10:00. Then enjoy fellowship and lunch after prayer.
URL:https://evangelcog.com/event/womens-prayer-meeting-3/
LOCATION:Fellowship Hall – Evangel Church of God\, 370 SW Monitor Glen\, Lake City\, FL\, 32025\, United States
ATTACH;FMTTYPE=image/jpeg:https://evangelcog.com/wp-content/uploads/2018/03/prayers1.jpg
END:VEVENT
BEGIN:VEVENT
DTSTART;TZID=America/New_York:20181007T173000
DTEND;TZID=America/New_York:20181007T183000
DTSTAMP:20260423T094507
CREATED:20181002T121247Z
LAST-MODIFIED:20181002T121358Z
UID:2184-1538933400-1538937000@evangelcog.com
SUMMARY:Fall Festival Volunteer Meeting
DESCRIPTION:Sunday at 5:30pm October 7 we need to meet with all volunteers to assign an area of ministry.
URL:https://evangelcog.com/event/fall-festival-volunteer-meeting/
LOCATION:Fellowship Hall – Evangel Church of God\, 370 SW Monitor Glen\, Lake City\, FL\, 32025\, United States
END:VEVENT
BEGIN:VEVENT
DTSTART;TZID=America/New_York:20181005T080000
DTEND;TZID=America/New_York:20181006T130000
DTSTAMP:20260423T094507
CREATED:20180709T115952Z
LAST-MODIFIED:20180709T115952Z
UID:1470-1538726400-1538830800@evangelcog.com
SUMMARY:Thrift Sale Oct. 5 & 6
DESCRIPTION:The annual Church Thrift Sale is scheduled for October 5 and 6.  When you are cleaning things out\, have clothes your children have outgrown or other things you no longer use\, don’t forget to donate them to the church.  All proceeds go to Vacation Bible School for 2019.  If you have things to donate\, notify Pastor Rick\, Sister Jackie or Marilyn.
URL:https://evangelcog.com/event/thrift-sale-oct-5-6/
LOCATION:Evangel Church of God\, 370 SW Monitor Glen\, Lake City\, FL\, 32025\, United States
END:VEVENT
BEGIN:VEVENT
DTSTART;TZID=America/New_York:20180930T104500
DTEND;TZID=America/New_York:20180930T120000
DTSTAMP:20260423T094507
CREATED:20180910T143516Z
LAST-MODIFIED:20180910T143516Z
UID:1958-1538304300-1538308800@evangelcog.com
SUMMARY:Communion Service During Morning Worship
DESCRIPTION:
URL:https://evangelcog.com/event/communion-service-during-morning-worship/
LOCATION:Evangel Church of God\, 370 SW Monitor Glen\, Lake City\, FL\, 32025\, United States
END:VEVENT
BEGIN:VEVENT
DTSTART;TZID=America/New_York:20180929T080000
DTEND;TZID=America/New_York:20180929T120000
DTSTAMP:20260423T094507
CREATED:20180910T141651Z
LAST-MODIFIED:20180910T142800Z
UID:1951-1538208000-1538222400@evangelcog.com
SUMMARY:Help! Help!! Help!!!   Work day Sept. 29 starting at 8am
DESCRIPTION:Saturday September 29 at 8 am\, we need your help building booths for our Fall Festival.  If you can use a hammer\, a saw or a screw driver\, (or carry water or sweep) we will make use of your talent!  Join in the fun of working together for the benefit of our youth programs. Contact Pastor Rick using the form below.\n \n\n← Back Thank you for your response. ✨\n\n\n					\n						\n							\n							\n						\n						\n						\n						\n						\n							\n								\n									\n										\n										\n									\n									\n										\n										\n									\n								\n							\n						\n						\n							\n								\n									\n									\n										\n									\n									\n									\n								\n							\n						\n					\n				\n\n\n\nName(required)\n\n \n			\n				\n					\n						\n						\n						\n					\n				\n				\n			 \n	\n\n\nEmail(required)\n\n \n			\n				\n					\n						\n						\n						\n					\n				\n				\n			 \n	\n\n\nBest Phone Number to Reach You(required)\n\n \n			\n				\n					\n						\n						\n						\n					\n				\n				\n			 \n	\n\n\nMessage\n\n \n			\n				\n					\n						\n						\n						\n					\n				\n				\n			\n	\n	\n\n				\n					\n				\n						Submit		\n		\n		\n	 \n\n\n 
URL:https://evangelcog.com/event/help-help-help-work-day-sept-29-starting-at-8am/
LOCATION:Evangel Church of God\, 370 SW Monitor Glen\, Lake City\, FL\, 32025\, United States
END:VEVENT
BEGIN:VEVENT
DTSTART;TZID=America/New_York:20180916T103000
DTEND;TZID=America/New_York:20180916T133000
DTSTAMP:20260423T094507
CREATED:20180418T172114Z
LAST-MODIFIED:20180905T111738Z
UID:883-1537093800-1537104600@evangelcog.com
SUMMARY:Pastor Appreciation
DESCRIPTION:How blessed we are to have Pastor Rick and Jackie leading us!\nPastor Appreciation Sunday is Sept. 16\, 2018. Join us at 10:30 for morning worship with guest speaker Br. Joe Berry.\nFollowing morning service\, there will be a covered dish luncheon in Fellowship Hall. Help us celebrate our Pastor and Sis. Jackie and show them our love and appreciation!\n(There will be no Sunday School or evening service.)\nInvite friends and family and remember to share our post!\n 
URL:https://evangelcog.com/event/pastor-appreciation/
LOCATION:Evangel Church of God\, 370 SW Monitor Glen\, Lake City\, FL\, 32025\, United States
END:VEVENT
BEGIN:VEVENT
DTSTART;TZID=America/New_York:20180911T100000
DTEND;TZID=America/New_York:20180911T120000
DTSTAMP:20260423T094507
CREATED:20180730T151943Z
LAST-MODIFIED:20180730T151943Z
UID:1671-1536660000-1536667200@evangelcog.com
SUMMARY:Women's Prayer Meeting
DESCRIPTION:Come and enjoy a time of prayer and fellowship\, all women are invited.  We meet in the fellowship hall on Tuesday\, September 11.  We will begin with prayer requests and prayer at 10:00. Then enjoy fellowship and lunch after prayer. See Julia Byrd for details or call 386-752-3927.
URL:https://evangelcog.com/event/womens-prayer-meeting-2/
LOCATION:Fellowship Hall – Evangel Church of God\, 370 SW Monitor Glen\, Lake City\, FL\, 32025\, United States
ATTACH;FMTTYPE=image/gif:https://evangelcog.com/wp-content/uploads/2018/07/waterlily_13448ac.gif
END:VEVENT
BEGIN:VEVENT
DTSTART;VALUE=DATE:20180902
DTEND;VALUE=DATE:20180903
DTSTAMP:20260423T094507
CREATED:20180831T114018Z
LAST-MODIFIED:20180831T114018Z
UID:1882-1535846400-1535932799@evangelcog.com
SUMMARY:Labor Day Holiday - no evening service
DESCRIPTION:There will be no evening service in our building tonight.  Enjoy your time with your family.
URL:https://evangelcog.com/event/labor-day-holiday-no-evening-service/
LOCATION:FL
END:VEVENT
BEGIN:VEVENT
DTSTART;TZID=America/New_York:20180826T120000
DTEND;TZID=America/New_York:20180826T140000
DTSTAMP:20260423T094507
CREATED:20180730T114555Z
LAST-MODIFIED:20180730T145900Z
UID:1656-1535284800-1535292000@evangelcog.com
SUMMARY:Celebrating our Children/Youth Teaching Staff
DESCRIPTION:Join us in celebrating the teachers who have shaped the spiritual growth of our youngsters for 20+ years – Glenda\, Brenda\, Jean and Lora Mae. We will have dinner on the ground after morning service. Be there to help us show our appreciation and recognize their many years of service to the young people of our church.
URL:https://evangelcog.com/event/celebrating-our-children-youth-teaching-staff/
LOCATION:Fellowship Hall – Evangel Church of God\, 370 SW Monitor Glen\, Lake City\, FL\, 32025\, United States
ATTACH;FMTTYPE=image/jpeg:https://evangelcog.com/wp-content/uploads/2018/07/roses.jpg
END:VEVENT
END:VCALENDAR