BEGIN:VCALENDAR
VERSION:2.0
PRODID:-//Evangel Church - ECPv6.15.17//NONSGML v1.0//EN
CALSCALE:GREGORIAN
METHOD:PUBLISH
X-ORIGINAL-URL:https://evangelcog.com
X-WR-CALDESC:Events for Evangel Church
REFRESH-INTERVAL;VALUE=DURATION:PT1H
X-Robots-Tag:noindex
X-PUBLISHED-TTL:PT1H
BEGIN:VTIMEZONE
TZID:America/New_York
BEGIN:DAYLIGHT
TZOFFSETFROM:-0500
TZOFFSETTO:-0400
TZNAME:EDT
DTSTART:20170312T070000
END:DAYLIGHT
BEGIN:STANDARD
TZOFFSETFROM:-0400
TZOFFSETTO:-0500
TZNAME:EST
DTSTART:20171105T060000
END:STANDARD
BEGIN:DAYLIGHT
TZOFFSETFROM:-0500
TZOFFSETTO:-0400
TZNAME:EDT
DTSTART:20180311T070000
END:DAYLIGHT
BEGIN:STANDARD
TZOFFSETFROM:-0400
TZOFFSETTO:-0500
TZNAME:EST
DTSTART:20181104T060000
END:STANDARD
BEGIN:DAYLIGHT
TZOFFSETFROM:-0500
TZOFFSETTO:-0400
TZNAME:EDT
DTSTART:20190310T070000
END:DAYLIGHT
BEGIN:STANDARD
TZOFFSETFROM:-0400
TZOFFSETTO:-0500
TZNAME:EST
DTSTART:20191103T060000
END:STANDARD
END:VTIMEZONE
BEGIN:VEVENT
DTSTART;TZID=America/New_York:20181014T104500
DTEND;TZID=America/New_York:20181014T120000
DTSTAMP:20260423T130327
CREATED:20181014T093556Z
LAST-MODIFIED:20181014T094448Z
UID:2296-1539513900-1539518400@evangelcog.com
SUMMARY:Getting to Know God - New Sermon Series with Pastor Rick
DESCRIPTION:
URL:https://evangelcog.com/event/getting-to-know-god-new-sermon-series-with-pastor-rick/
LOCATION:Evangel Church of God\, 370 SW Monitor Glen\, Lake City\, FL\, 32025\, United States
END:VEVENT
BEGIN:VEVENT
DTSTART;TZID=America/New_York:20181009T100000
DTEND;TZID=America/New_York:20181009T120000
DTSTAMP:20260423T130327
CREATED:20181002T123037Z
LAST-MODIFIED:20181002T123037Z
UID:2192-1539079200-1539086400@evangelcog.com
SUMMARY:Women's Prayer Meeting
DESCRIPTION:Come and enjoy a time of prayer and fellowship\, all women are invited.  We meet in the Fellowship Hall on Tuesday.  We will begin with prayer requests and prayer at 10:00. Then enjoy fellowship and lunch after prayer.
URL:https://evangelcog.com/event/womens-prayer-meeting-3/
LOCATION:Fellowship Hall – Evangel Church of God\, 370 SW Monitor Glen\, Lake City\, FL\, 32025\, United States
ATTACH;FMTTYPE=image/jpeg:https://evangelcog.com/wp-content/uploads/2018/03/prayers1.jpg
END:VEVENT
BEGIN:VEVENT
DTSTART;TZID=America/New_York:20181007T173000
DTEND;TZID=America/New_York:20181007T183000
DTSTAMP:20260423T130327
CREATED:20181002T121247Z
LAST-MODIFIED:20181002T121358Z
UID:2184-1538933400-1538937000@evangelcog.com
SUMMARY:Fall Festival Volunteer Meeting
DESCRIPTION:Sunday at 5:30pm October 7 we need to meet with all volunteers to assign an area of ministry.
URL:https://evangelcog.com/event/fall-festival-volunteer-meeting/
LOCATION:Fellowship Hall – Evangel Church of God\, 370 SW Monitor Glen\, Lake City\, FL\, 32025\, United States
END:VEVENT
BEGIN:VEVENT
DTSTART;TZID=America/New_York:20181005T080000
DTEND;TZID=America/New_York:20181006T130000
DTSTAMP:20260423T130327
CREATED:20180709T115952Z
LAST-MODIFIED:20180709T115952Z
UID:1470-1538726400-1538830800@evangelcog.com
SUMMARY:Thrift Sale Oct. 5 & 6
DESCRIPTION:The annual Church Thrift Sale is scheduled for October 5 and 6.  When you are cleaning things out\, have clothes your children have outgrown or other things you no longer use\, don’t forget to donate them to the church.  All proceeds go to Vacation Bible School for 2019.  If you have things to donate\, notify Pastor Rick\, Sister Jackie or Marilyn.
URL:https://evangelcog.com/event/thrift-sale-oct-5-6/
LOCATION:Evangel Church of God\, 370 SW Monitor Glen\, Lake City\, FL\, 32025\, United States
END:VEVENT
BEGIN:VEVENT
DTSTART;TZID=America/New_York:20180930T104500
DTEND;TZID=America/New_York:20180930T120000
DTSTAMP:20260423T130327
CREATED:20180910T143516Z
LAST-MODIFIED:20180910T143516Z
UID:1958-1538304300-1538308800@evangelcog.com
SUMMARY:Communion Service During Morning Worship
DESCRIPTION:
URL:https://evangelcog.com/event/communion-service-during-morning-worship/
LOCATION:Evangel Church of God\, 370 SW Monitor Glen\, Lake City\, FL\, 32025\, United States
END:VEVENT
BEGIN:VEVENT
DTSTART;TZID=America/New_York:20180929T080000
DTEND;TZID=America/New_York:20180929T120000
DTSTAMP:20260423T130327
CREATED:20180910T141651Z
LAST-MODIFIED:20180910T142800Z
UID:1951-1538208000-1538222400@evangelcog.com
SUMMARY:Help! Help!! Help!!!   Work day Sept. 29 starting at 8am
DESCRIPTION:Saturday September 29 at 8 am\, we need your help building booths for our Fall Festival.  If you can use a hammer\, a saw or a screw driver\, (or carry water or sweep) we will make use of your talent!  Join in the fun of working together for the benefit of our youth programs. Contact Pastor Rick using the form below.\n \n\n← Back Thank you for your response. ✨\n\n\n					\n						\n							\n							\n						\n						\n						\n						\n						\n							\n								\n									\n										\n										\n									\n									\n										\n										\n									\n								\n							\n						\n						\n							\n								\n									\n									\n										\n									\n									\n									\n								\n							\n						\n					\n				\n\n\n\nName(required)\n\n \n			\n				\n					\n						\n						\n						\n					\n				\n				\n			 \n	\n\n\nEmail(required)\n\n \n			\n				\n					\n						\n						\n						\n					\n				\n				\n			 \n	\n\n\nBest Phone Number to Reach You(required)\n\n \n			\n				\n					\n						\n						\n						\n					\n				\n				\n			 \n	\n\n\nMessage\n\n \n			\n				\n					\n						\n						\n						\n					\n				\n				\n			\n	\n	\n\n				\n					\n				\n						Submit		\n		\n		\n	 \n\n\n 
URL:https://evangelcog.com/event/help-help-help-work-day-sept-29-starting-at-8am/
LOCATION:Evangel Church of God\, 370 SW Monitor Glen\, Lake City\, FL\, 32025\, United States
END:VEVENT
BEGIN:VEVENT
DTSTART;TZID=America/New_York:20180916T103000
DTEND;TZID=America/New_York:20180916T133000
DTSTAMP:20260423T130327
CREATED:20180418T172114Z
LAST-MODIFIED:20180905T111738Z
UID:883-1537093800-1537104600@evangelcog.com
SUMMARY:Pastor Appreciation
DESCRIPTION:How blessed we are to have Pastor Rick and Jackie leading us!\nPastor Appreciation Sunday is Sept. 16\, 2018. Join us at 10:30 for morning worship with guest speaker Br. Joe Berry.\nFollowing morning service\, there will be a covered dish luncheon in Fellowship Hall. Help us celebrate our Pastor and Sis. Jackie and show them our love and appreciation!\n(There will be no Sunday School or evening service.)\nInvite friends and family and remember to share our post!\n 
URL:https://evangelcog.com/event/pastor-appreciation/
LOCATION:Evangel Church of God\, 370 SW Monitor Glen\, Lake City\, FL\, 32025\, United States
END:VEVENT
BEGIN:VEVENT
DTSTART;TZID=America/New_York:20180911T100000
DTEND;TZID=America/New_York:20180911T120000
DTSTAMP:20260423T130327
CREATED:20180730T151943Z
LAST-MODIFIED:20180730T151943Z
UID:1671-1536660000-1536667200@evangelcog.com
SUMMARY:Women's Prayer Meeting
DESCRIPTION:Come and enjoy a time of prayer and fellowship\, all women are invited.  We meet in the fellowship hall on Tuesday\, September 11.  We will begin with prayer requests and prayer at 10:00. Then enjoy fellowship and lunch after prayer. See Julia Byrd for details or call 386-752-3927.
URL:https://evangelcog.com/event/womens-prayer-meeting-2/
LOCATION:Fellowship Hall – Evangel Church of God\, 370 SW Monitor Glen\, Lake City\, FL\, 32025\, United States
ATTACH;FMTTYPE=image/gif:https://evangelcog.com/wp-content/uploads/2018/07/waterlily_13448ac.gif
END:VEVENT
BEGIN:VEVENT
DTSTART;VALUE=DATE:20180902
DTEND;VALUE=DATE:20180903
DTSTAMP:20260423T130327
CREATED:20180831T114018Z
LAST-MODIFIED:20180831T114018Z
UID:1882-1535846400-1535932799@evangelcog.com
SUMMARY:Labor Day Holiday - no evening service
DESCRIPTION:There will be no evening service in our building tonight.  Enjoy your time with your family.
URL:https://evangelcog.com/event/labor-day-holiday-no-evening-service/
LOCATION:FL
END:VEVENT
BEGIN:VEVENT
DTSTART;TZID=America/New_York:20180826T120000
DTEND;TZID=America/New_York:20180826T140000
DTSTAMP:20260423T130327
CREATED:20180730T114555Z
LAST-MODIFIED:20180730T145900Z
UID:1656-1535284800-1535292000@evangelcog.com
SUMMARY:Celebrating our Children/Youth Teaching Staff
DESCRIPTION:Join us in celebrating the teachers who have shaped the spiritual growth of our youngsters for 20+ years – Glenda\, Brenda\, Jean and Lora Mae. We will have dinner on the ground after morning service. Be there to help us show our appreciation and recognize their many years of service to the young people of our church.
URL:https://evangelcog.com/event/celebrating-our-children-youth-teaching-staff/
LOCATION:Fellowship Hall – Evangel Church of God\, 370 SW Monitor Glen\, Lake City\, FL\, 32025\, United States
ATTACH;FMTTYPE=image/jpeg:https://evangelcog.com/wp-content/uploads/2018/07/roses.jpg
END:VEVENT
BEGIN:VEVENT
DTSTART;TZID=America/New_York:20180825T093000
DTEND;TZID=America/New_York:20180825T110000
DTSTAMP:20260423T130327
CREATED:20180508T115243Z
LAST-MODIFIED:20180806T102955Z
UID:979-1535189400-1535194800@evangelcog.com
SUMMARY:Ladies Saturday Brunch
DESCRIPTION: 
URL:https://evangelcog.com/event/ladies-saturday-brunch/
LOCATION:Fellowship Hall – Evangel Church of God\, 370 SW Monitor Glen\, Lake City\, FL\, 32025\, United States
END:VEVENT
BEGIN:VEVENT
DTSTART;TZID=America/New_York:20180811T093000
DTEND;TZID=America/New_York:20180811T120000
DTSTAMP:20260423T130327
CREATED:20180613T121824Z
LAST-MODIFIED:20180709T121035Z
UID:1272-1533979800-1533988800@evangelcog.com
SUMMARY:Back to School Bash
DESCRIPTION:A “Back to School Bash” will be held Saturday\, Aug. 11 from 9am – 12pm.  There will be fun and games from 9-11.  Then a lunch is planned before the school supplies are distributed.  The church will furnish hot dogs and buns; we ask that everyone bring something to sahre to complete the meal.  We hope to give each child (pre-k through high school) a bag of supplies for school.  Please bring your supplies to the church office any time before Aug. 8.  (The state Tax Free weekend is August 3\, 4\, and 5.)
URL:https://evangelcog.com/event/back-to-school-bash/
LOCATION:Evangel Church of God\, 370 SW Monitor Glen\, Lake City\, FL\, 32025\, United States
END:VEVENT
BEGIN:VEVENT
DTSTART;TZID=America/New_York:20180805T104500
DTEND;TZID=America/New_York:20180805T120000
DTSTAMP:20260423T130327
CREATED:20180724T122702Z
LAST-MODIFIED:20180724T122702Z
UID:1611-1533465900-1533470400@evangelcog.com
SUMMARY:Membership Sunday Aug. 5\, 2018
DESCRIPTION:Membership allows us to connect to a Christian community and enables us to grow and become spiritually mature in Christ together with our church family.  Sunday\, Aug. 5 is Membership Sunday at Evangel.  If you are interested in joining the Evangel church please speak with Pastor Rick.\n \n 
URL:https://evangelcog.com/event/membership-sunday-aug-5-2018/
LOCATION:Evangel Church of God\, 370 SW Monitor Glen\, Lake City\, FL\, 32025\, United States
END:VEVENT
BEGIN:VEVENT
DTSTART;TZID=America/New_York:20180620T190000
DTEND;TZID=America/New_York:20180620T200000
DTSTAMP:20260423T130327
CREATED:20180613T121421Z
LAST-MODIFIED:20180613T121421Z
UID:1269-1529521200-1529524800@evangelcog.com
SUMMARY:Church Business Meeting 7pm
DESCRIPTION:
URL:https://evangelcog.com/event/church-business-meeting-7pm/
LOCATION:Evangel Church of God\, 370 SW Monitor Glen\, Lake City\, FL\, 32025\, United States
END:VEVENT
BEGIN:VEVENT
DTSTART;VALUE=DATE:20180617
DTEND;VALUE=DATE:20180618
DTSTAMP:20260423T130327
CREATED:20180418T171622Z
LAST-MODIFIED:20180610T102402Z
UID:877-1529193600-1529279999@evangelcog.com
SUMMARY:Happy Father's Day! (no evening service)
DESCRIPTION:
URL:https://evangelcog.com/event/happy-fathers-day/
LOCATION:Evangel Church of God\, 370 SW Monitor Glen\, Lake City\, FL\, 32025\, United States
END:VEVENT
BEGIN:VEVENT
DTSTART;TZID=America/New_York:20180611T190000
DTEND;TZID=America/New_York:20180615T200000
DTSTAMP:20260423T130327
CREATED:20180503T122949Z
LAST-MODIFIED:20180503T122949Z
UID:964-1528743600-1529092800@evangelcog.com
SUMMARY:2018 Florida Campmeeting in Wimauma
DESCRIPTION:2018 Campmeeting
URL:https://evangelcog.com/event/2018-florida-campmeeting-in-wimauma/
LOCATION:Wimauma\, 5408 S.R. 674\, Wimauma\, FL\, 33598\, United States
END:VEVENT
BEGIN:VEVENT
DTSTART;TZID=America/New_York:20180610T103000
DTEND;TZID=America/New_York:20180610T140000
DTSTAMP:20260423T130327
CREATED:20180512T130902Z
LAST-MODIFIED:20180606T115706Z
UID:1004-1528626600-1528639200@evangelcog.com
SUMMARY:Homecoming / Anniversary Celebration (no Sunday School\, no evening service\, 10:30am morning service start time)
DESCRIPTION:On Sunday\, June 10\, Evangel Church of God  will celebrate our 43rd Anniversary/Home coming. We will enjoy a covered dish luncheon following the morning worship service\, which starts at 10:30am. with special guest speaker Lonnie Stewart.  Everyone is invited.  Invite your family and friends.  (There will be no evening service.)  
URL:https://evangelcog.com/event/homecoming-anniversary-celebration/
LOCATION:Evangel Church of God\, 370 SW Monitor Glen\, Lake City\, FL\, 32025\, United States
END:VEVENT
BEGIN:VEVENT
DTSTART;TZID=America/New_York:20180606T190000
DTEND;TZID=America/New_York:20180606T200000
DTSTAMP:20260423T130327
CREATED:20180531T110340Z
LAST-MODIFIED:20180531T110340Z
UID:1155-1528311600-1528315200@evangelcog.com
SUMMARY:No Evening Service due to VBS
DESCRIPTION: 
URL:https://evangelcog.com/event/no-evening-service-due-to-vbs/
LOCATION:Evangel Church of God\, 370 SW Monitor Glen\, Lake City\, FL\, 32025\, United States
END:VEVENT
BEGIN:VEVENT
DTSTART;TZID=America/New_York:20180604T183000
DTEND;TZID=America/New_York:20180608T203000
DTSTAMP:20260423T130327
CREATED:20180416T155826Z
LAST-MODIFIED:20180531T105633Z
UID:829-1528137000-1528489800@evangelcog.com
SUMMARY:Vacation Bible School
DESCRIPTION:Vacation Bible School at Evangel is scheduled for June 4-8.  Each day at Shipwrecked VBS\, kids travel through field-tested rotations that reinforce relevant Bible Points and immerse kids in new adventures.\nSpread the word to your family and friends.  If you wish to help\, it’s not too late – see Sandra Jewett.
URL:https://evangelcog.com/event/vacation-bible-school/
LOCATION:Fellowship Hall – Evangel Church of God\, 370 SW Monitor Glen\, Lake City\, FL\, 32025\, United States
END:VEVENT
BEGIN:VEVENT
DTSTART;VALUE=DATE:20180528
DTEND;VALUE=DATE:20180529
DTSTAMP:20260423T130327
CREATED:20180418T171855Z
LAST-MODIFIED:20180418T171855Z
UID:880-1527465600-1527551999@evangelcog.com
SUMMARY:Memorial Day
DESCRIPTION:
URL:https://evangelcog.com/event/memorial-day/
LOCATION:FL
END:VEVENT
BEGIN:VEVENT
DTSTART;VALUE=DATE:20180527
DTEND;VALUE=DATE:20180528
DTSTAMP:20260423T130327
CREATED:20180521T115831Z
LAST-MODIFIED:20180525T110111Z
UID:1082-1527379200-1527465599@evangelcog.com
SUMMARY:No Evening Service (Memorial Day)
DESCRIPTION:Because of the many different family activities within the church family\, it has been requested that we not have an evening service. Therefore\, there will be no service the evening of May 27. Take time to be with your family and enjoy the Memorial Day holiday with them.  \nPlease join us for Sunday School at 9:45am and stay for morning worship at 10:45am\, when we will have a special presentation to honor our military.\n 
URL:https://evangelcog.com/event/no-evening-service-memorial-day/
LOCATION:FL
END:VEVENT
BEGIN:VEVENT
DTSTART;TZID=America/New_York:20180523T190000
DTEND;TZID=America/New_York:20180523T203000
DTSTAMP:20260423T130327
CREATED:20180416T154541Z
LAST-MODIFIED:20180517T115732Z
UID:863-1527102000-1527107400@evangelcog.com
SUMMARY:Congratulations to our Graduating Seniors! (no Wed. evening service)
DESCRIPTION:We are celebrating the graduation of students in our church.  There will be a potluck dinner in the Fellowship Hall.  Come help celebrate their hard work.
URL:https://evangelcog.com/event/congratulations-to-our-graduating-seniors/
LOCATION:Fellowship Hall – Evangel Church of God\, 370 SW Monitor Glen\, Lake City\, FL\, 32025\, United States
END:VEVENT
BEGIN:VEVENT
DTSTART;VALUE=DATE:20180520
DTEND;VALUE=DATE:20180521
DTSTAMP:20260423T130327
CREATED:20180517T115627Z
LAST-MODIFIED:20180517T115627Z
UID:1049-1526774400-1526860799@evangelcog.com
SUMMARY:Pentecost Sunday
DESCRIPTION:
URL:https://evangelcog.com/event/pentecost-sunday/
LOCATION:Evangel Church of God\, 370 SW Monitor Glen\, Lake City\, FL\, 32025\, United States
END:VEVENT
BEGIN:VEVENT
DTSTART;TZID=America/New_York:20180514T190000
DTEND;TZID=America/New_York:20180514T210000
DTSTAMP:20260423T130327
CREATED:20180425T122750Z
LAST-MODIFIED:20180425T122750Z
UID:920-1526324400-1526331600@evangelcog.com
SUMMARY:Championship Game! - Spring Church League Baseball
DESCRIPTION:Come join in the fun and cheer on our team and support our youth department. The church softball league is in its last few weeks. Extra bonus – our youth are selling refreshments in the concession building as a fund-raiser.
URL:https://evangelcog.com/event/championship-game-spring-church-league-baseball/
LOCATION:Southside Sports and Recreation Complex
END:VEVENT
BEGIN:VEVENT
DTSTART;VALUE=DATE:20180513
DTEND;VALUE=DATE:20180514
DTSTAMP:20260423T130327
CREATED:20180416T153905Z
LAST-MODIFIED:20180512T125915Z
UID:859-1526169600-1526255999@evangelcog.com
SUMMARY:Mother's Day (no evening service)
DESCRIPTION:No Evening Worship Service\nBecause of the many different family activities today within the church family\, it has been requested that we not have an evening service. Therefore\, there will be no service tonight. Take time to be with your family and enjoy Mother’s Day with them.
URL:https://evangelcog.com/event/mothers-day/
LOCATION:FL
END:VEVENT
BEGIN:VEVENT
DTSTART;TZID=America/New_York:20180508T100000
DTEND;TZID=America/New_York:20180508T120000
DTSTAMP:20260423T130327
CREATED:20180424T113910Z
LAST-MODIFIED:20180424T113910Z
UID:901-1525773600-1525780800@evangelcog.com
SUMMARY:Women's Prayer Meeting
DESCRIPTION:All women are invited to attend a prayer meeting\, followed by fellowship and luncheon on Tuesday\, May 8.  We will begin with prayer reuests and prayer from 10:00 to 11:00.  Then enjoy fellowship and lunch after prayer.  See Julia Byrd for details.
URL:https://evangelcog.com/event/womens-prayer-meeting/
LOCATION:Evangel Church of God\, 370 SW Monitor Glen\, Lake City\, FL\, 32025\, United States
END:VEVENT
BEGIN:VEVENT
DTSTART;TZID=America/New_York:20180507T190000
DTEND;TZID=America/New_York:20180507T210000
DTSTAMP:20260423T130327
CREATED:20180425T122535Z
LAST-MODIFIED:20180425T122535Z
UID:918-1525719600-1525726800@evangelcog.com
SUMMARY:Spring Church League Baseball
DESCRIPTION:Come join in the fun and cheer on our team and support our youth department. The church softball league is in its last few weeks. Extra bonus – our youth are selling refreshments in the concession building as a fund-raiser.
URL:https://evangelcog.com/event/spring-church-league-baseball-2/
LOCATION:Southside Sports and Recreation Complex
END:VEVENT
BEGIN:VEVENT
DTSTART;TZID=America/New_York:20180504T173000
DTEND;TZID=America/New_York:20180504T173000
DTSTAMP:20260423T130327
CREATED:20180418T171156Z
LAST-MODIFIED:20180421T004303Z
UID:874-1525455000-1525455000@evangelcog.com
SUMMARY:Children's Group Concert Field Trip
DESCRIPTION:
URL:https://evangelcog.com/event/youth-group-concert-field-trip/
LOCATION:FL
END:VEVENT
BEGIN:VEVENT
DTSTART;TZID=America/New_York:20180504T110000
DTEND;TZID=America/New_York:20180504T120000
DTSTAMP:20260423T130327
CREATED:20180502T155440Z
LAST-MODIFIED:20180502T155440Z
UID:960-1525431600-1525435200@evangelcog.com
SUMMARY:In Memory of Margaret Cornell
DESCRIPTION:We extend our prayers and sympathy to the family of Sis. Margaret Cornell. May she rest in peace in the arms of our loving savior\, Jesus Christ.\nThere will be a grave-side service for her on Friday\, May 4 at 11am at the cemetery in High Springs off Hwy 41. Contact: Evans-Carter Funeral Home\, High Springs\, FL (386) 454-2444.
URL:https://evangelcog.com/event/in-memory-of-margaret-cornell/
LOCATION:FL
END:VEVENT
BEGIN:VEVENT
DTSTART;TZID=America/New_York:20180502T190000
DTEND;TZID=America/New_York:20180502T200000
DTSTAMP:20260423T130327
CREATED:20180501T115956Z
LAST-MODIFIED:20180501T115956Z
UID:955-1525287600-1525291200@evangelcog.com
SUMMARY:New Wednesday Bible Study Series
DESCRIPTION:Pastor Rick is beginning a new series on Wednesday nights.  It is entitled “Having a Ministry Like Jesus”.  Come and join us in the sanctuary at 7pm.
URL:https://evangelcog.com/event/new-wednesday-bible-study-series/
LOCATION:Evangel Church of God\, 370 SW Monitor Glen\, Lake City\, FL\, 32025\, United States
END:VEVENT
END:VCALENDAR