BEGIN:VCALENDAR
VERSION:2.0
PRODID:-//Evangel Church - ECPv6.15.17//NONSGML v1.0//EN
CALSCALE:GREGORIAN
METHOD:PUBLISH
X-WR-CALNAME:Evangel Church
X-ORIGINAL-URL:https://evangelcog.com
X-WR-CALDESC:Events for Evangel Church
REFRESH-INTERVAL;VALUE=DURATION:PT1H
X-Robots-Tag:noindex
X-PUBLISHED-TTL:PT1H
BEGIN:VTIMEZONE
TZID:America/New_York
BEGIN:DAYLIGHT
TZOFFSETFROM:-0500
TZOFFSETTO:-0400
TZNAME:EDT
DTSTART:20170312T070000
END:DAYLIGHT
BEGIN:STANDARD
TZOFFSETFROM:-0400
TZOFFSETTO:-0500
TZNAME:EST
DTSTART:20171105T060000
END:STANDARD
BEGIN:DAYLIGHT
TZOFFSETFROM:-0500
TZOFFSETTO:-0400
TZNAME:EDT
DTSTART:20180311T070000
END:DAYLIGHT
BEGIN:STANDARD
TZOFFSETFROM:-0400
TZOFFSETTO:-0500
TZNAME:EST
DTSTART:20181104T060000
END:STANDARD
BEGIN:DAYLIGHT
TZOFFSETFROM:-0500
TZOFFSETTO:-0400
TZNAME:EDT
DTSTART:20190310T070000
END:DAYLIGHT
BEGIN:STANDARD
TZOFFSETFROM:-0400
TZOFFSETTO:-0500
TZNAME:EST
DTSTART:20191103T060000
END:STANDARD
END:VTIMEZONE
BEGIN:VEVENT
DTSTART;TZID=America/New_York:20180430T190000
DTEND;TZID=America/New_York:20180430T210000
DTSTAMP:20260423T182334
CREATED:20180425T121821Z
LAST-MODIFIED:20180425T122031Z
UID:909-1525114800-1525122000@evangelcog.com
SUMMARY:Spring Church League Baseball
DESCRIPTION:Come join in the fun and cheer on our team and support our youth department. The church softball league is in its last few weeks. Extra bonus – our youth are selling refreshments in the concession building as a fund-raiser.
URL:https://evangelcog.com/event/spring-church-league-baseball/
LOCATION:Southside Sports and Recreation Complex
END:VEVENT
BEGIN:VEVENT
DTSTART;TZID=America/New_York:20180429T180000
DTEND;TZID=America/New_York:20180429T190000
DTSTAMP:20260423T182334
CREATED:20180426T124529Z
LAST-MODIFIED:20180426T124529Z
UID:937-1525024800-1525028400@evangelcog.com
SUMMARY:5th Sunday Service hosted by North Lake City Church of God
DESCRIPTION:Sunday April 29th’s 5th Sunday service is hosted by North Lake City Church of God at 6pm.\nThere will be no evening service in our building.  Please join us at North Lake City.
URL:https://evangelcog.com/event/5th-sunday-service-hosted-by-north-lake-city-church-of-god/
LOCATION:North Lake City Church of God
END:VEVENT
BEGIN:VEVENT
DTSTART;TZID=America/New_York:20180422T104500
DTEND;TZID=America/New_York:20180422T120000
DTSTAMP:20260423T182334
CREATED:20180416T153504Z
LAST-MODIFIED:20180416T154632Z
UID:846-1524393900-1524398400@evangelcog.com
SUMMARY:4.22.2018 Special Guest Speaker - Dennis Brown
DESCRIPTION:You Don’t Want to Miss DENNIS BROWN “THE MIRACLE MAN”\n April 22 at 10:45\nOn September 5\, 2016\, on his way to work\, Dennis was involved in a near-fatal car accident that left him with many life threatening injuries. The hospital listed his condition as very critical and did not expect him to live. After surviving 26 days in trauma intensive care\, and going through multiple surgeries and medical procedures\, the doctors dubbed him the “The Miracle Man”. We invite you to come and hear the rest of this exciting story of God’s miraculous power and healing grace. Dennis is the girl’s golf coach at McKeel Academy in Lakeland\, Florida.
URL:https://evangelcog.com/event/4-22-2018-special-guest-speaker-dennis-brown/
LOCATION:Evangel Church of God\, 370 SW Monitor Glen\, Lake City\, FL\, 32025\, United States
END:VEVENT
BEGIN:VEVENT
DTSTART;TZID=America/New_York:20180415T173000
DTEND;TZID=America/New_York:20180415T183000
DTSTAMP:20260423T182334
CREATED:20180414T122355Z
LAST-MODIFIED:20180414T140045Z
UID:820-1523813400-1523817000@evangelcog.com
SUMMARY:Women's Discipleship meeting
DESCRIPTION:
URL:https://evangelcog.com/event/__trashed/
LOCATION:Fellowship Hall – Evangel Church of God\, 370 SW Monitor Glen\, Lake City\, FL\, 32025\, United States
ATTACH;FMTTYPE=image/jpeg:https://evangelcog.com/wp-content/uploads/2018/03/womens_12463c-1.jpg
END:VEVENT
BEGIN:VEVENT
DTSTART;TZID=America/New_York:20180415T120000
DTEND;TZID=America/New_York:20180415T133000
DTSTAMP:20260423T182334
CREATED:20180414T121421Z
LAST-MODIFIED:20180414T121421Z
UID:804-1523793600-1523799000@evangelcog.com
SUMMARY:Spaghetti Dinner Fund Raiser
DESCRIPTION:Join us in the Fellowship Hall after morning service on 4.15.2018 for a Spaghetti Dinner to benefit our youth programs.  Eat in or take-out available for the cost of a donation.
URL:https://evangelcog.com/event/spaghetti-dinner-fund-raiser/
LOCATION:Fellowship Hall – Evangel Church of God\, 370 SW Monitor Glen\, Lake City\, FL\, 32025\, United States
END:VEVENT
END:VCALENDAR